BEGIN:VCALENDAR
VERSION:2.0
PRODID:-//Eckankar - ECPv6.15.20//NONSGML v1.0//EN
CALSCALE:GREGORIAN
METHOD:PUBLISH
X-WR-CALNAME:Eckankar
X-ORIGINAL-URL:https://www.eckankar.org
X-WR-CALDESC:Events for Eckankar
REFRESH-INTERVAL;VALUE=DURATION:PT1H
X-Robots-Tag:noindex
X-PUBLISHED-TTL:PT1H
BEGIN:VTIMEZONE
TZID:America/Chicago
BEGIN:DAYLIGHT
TZOFFSETFROM:-0600
TZOFFSETTO:-0500
TZNAME:CDT
DTSTART:20250309T080000
END:DAYLIGHT
BEGIN:STANDARD
TZOFFSETFROM:-0500
TZOFFSETTO:-0600
TZNAME:CST
DTSTART:20251102T070000
END:STANDARD
BEGIN:DAYLIGHT
TZOFFSETFROM:-0600
TZOFFSETTO:-0500
TZNAME:CDT
DTSTART:20260308T080000
END:DAYLIGHT
BEGIN:STANDARD
TZOFFSETFROM:-0500
TZOFFSETTO:-0600
TZNAME:CST
DTSTART:20261101T070000
END:STANDARD
BEGIN:DAYLIGHT
TZOFFSETFROM:-0600
TZOFFSETTO:-0500
TZNAME:CDT
DTSTART:20270314T080000
END:DAYLIGHT
BEGIN:STANDARD
TZOFFSETFROM:-0500
TZOFFSETTO:-0600
TZNAME:CST
DTSTART:20271107T070000
END:STANDARD
END:VTIMEZONE
BEGIN:VEVENT
DTSTART;TZID=America/Chicago:20260424T190000
DTEND;TZID=America/Chicago:20260424T190000
DTSTAMP:20260424T133104
CREATED:20260319T193617Z
LAST-MODIFIED:20260320T183004Z
UID:26351-1777057200-1777057200@www.eckankar.org
SUMMARY:Raise Your Spiritual IQ!Inner KnowingnessGuest Chat
DESCRIPTION:Raise Your Spiritual IQ – For those new to the teachings of Eᴄᴋᴀɴᴋᴀʀ. \nIn tonight’s chat\, we will discuss the treasure of Soul perceptions.
URL:https://www.eckankar.org/event/gc-4-24-26/
LOCATION:Temple of ECK\, 7450 Powers Blvd\, Chanhassen\, MN\, 55317\, United States
END:VEVENT
BEGIN:VEVENT
DTSTART;TZID=America/Chicago:20260424T190000
DTEND;TZID=America/Chicago:20260424T190000
DTSTAMP:20260424T133104
CREATED:20260319T222632Z
LAST-MODIFIED:20260319T222632Z
UID:26393-1777057200-1777057200@www.eckankar.org
SUMMARY:At a Crossroads—Following Your Inner GuidanceRoundtable
DESCRIPTION:Roundtables are forums that dive deep into spiritual topics. You’ll be able to share your spiritual experiences\, perspectives\, or questions. If you prefer to listen and learn\, that’s cool too! \nPeople of all faiths and backgrounds are welcome. There’s no need to register—just drop in. \nRoundtables are facilitated by an ECK Spiritual Aide\, a cleric and longtime member of Eᴄᴋᴀɴᴋᴀʀ who is specially trained to lead these forums. \nComments from recent attendees: \n“The heartfelt way each person shared their insights meant so much.” \n“The facilitator was a great listener and created a space for everyone to share.” \n“The discussion was awesome.” \n“This was an amazing topic! A wonderful roundtable.”
URL:https://www.eckankar.org/event/rt-4-24-26/
LOCATION:Temple of ECK\, 7450 Powers Blvd\, Chanhassen\, MN\, 55317\, United States
END:VEVENT
END:VCALENDAR